BEGIN:VCALENDAR
VERSION:2.0
PRODID:-//Bauernzeitung//Event Calendar//DE
X-WR-CALNAME:Bauernzeitung Veranstaltung
BEGIN:VTIMEZONE
TZID:Europe/Vienna
TZURL:http://tzurl.org/zoneinfo-outlook/Europe/Vienna
X-LIC-LOCATION:Europe/Vienna
BEGIN:STANDARD
TZOFFSETFROM:+0200
TZOFFSETTO:+0100
TZNAME:CET
DTSTART:19701025T030000
RRULE:FREQ=YEARLY;BYMONTH=10;BYDAY=-1SU
END:STANDARD
BEGIN:DAYLIGHT
TZOFFSETFROM:+0100
TZOFFSETTO:+0200
TZNAME:CEST
DTSTART:19700329T020000
RRULE:FREQ=YEARLY;BYMONTH=3;BYDAY=-1SU
END:DAYLIGHT
END:VTIMEZONE
BEGIN:VEVENT
UID:event-114@bauernzeitung
DTSTAMP:20260422T085215Z
DTSTART;VALUE=DATE:20260610
DTEND;VALUE=DATE:20260613
SUMMARY:integra 2026 - Fachmesse für Pflege, Reha und Therapie
DESCRIPTION:Kontakt: Messe Wels\nEmail: werbung@messe-wels.at\nTelefon: +4372429392-0\n\nAlle Personen, die in naher Zukunft mit dem Thema „Pflege“ konfrontiert sind oder bemerken, dass sie ihren Alltag ohne Unterstützung nicht wie gewohnt fortführen können, sind auf Österreichs Fachmesse für Pflege, Reha, Therapie genau richtig! Hier bietet sich die Gelegenheit, sich umfassend zu informieren, Hilfsmittel auszuprobieren, wichtige Kontakte zu knüpfen, Hintergrundinformationen zu Krankheiten zu erfahren und Produkte für mehr Lebensqualität und Selbstständigkeit zu entdecken. Mit der Pflege geht eine außergewöhnliche Verantwortung einher. Es ist eine Tätigkeit, die von Liebe und Hingabe und oft auch von Herausforderungen geprägt ist. \n\nDie integra 2026 präsentiert von 10. - 12. Juni 2026 in der Messe Wels eine erweiterte Themenlandschaft, die aktuelle Herausforderungen für Menschen mit Beeinträchtigungen, pflegende Angehörige, Pflegepersonal, Therapeuten, Ärzte, Pädagogen, Sozialarbeiter, Entscheidungsträger im Gesundheits- und Sozialbereich in Pflege, Mobilität und Rehabilitation aufgreift. Es werden Lösungen präsentiert, um Betroffene, Angehörige und Fachkräfte zu unterstützen, die Herausforderungen des Alltags besser bewältigen zu können. Zudem bietet die Messe mit dem umfangreichen und kostenfreien Bildungs- und Aktionsprogramm eine wertvolle Ergänzung zum Ausstellungsprogramm und Möglichkeit, sich auszutauschen.\n\nEs besteht während der Messe die Möglichkeit, verschiedene Hilfsmittel auszuprobieren, die den Alltag von pflegebedürftigen Personen und Menschen mit Beeinträchtigungen erleichtern. Dazu zählen etwa Rollstühle, Prothesen, Perücken, orthopädische Schuhe oder Hörgeräte. Ab einem gewissen Alter ist es auch wichtig, sich über Aufstehhilfen und Halterungen im Badezimmer und WC zu informieren, um Stürze zu vermeiden und ein sicheres Badeerlebnis zu gewährleisten.\n\nJeder profitiert von den Erfahrungen und Tipps anderer und fühlt sich verstanden durch den gegenseitigen Austausch. „Du bist nicht allein“!
LOCATION:Messeplatz 1, 4600 Wels
URL:https://integra.at
END:VEVENT
END:VCALENDAR