BEGIN:VCALENDAR
VERSION:2.0
PRODID:-//Bauernzeitung//Event Calendar//DE
X-WR-CALNAME:Bauernzeitung Veranstaltung
BEGIN:VTIMEZONE
TZID:Europe/Vienna
TZURL:http://tzurl.org/zoneinfo-outlook/Europe/Vienna
X-LIC-LOCATION:Europe/Vienna
BEGIN:STANDARD
TZOFFSETFROM:+0200
TZOFFSETTO:+0100
TZNAME:CET
DTSTART:19701025T030000
RRULE:FREQ=YEARLY;BYMONTH=10;BYDAY=-1SU
END:STANDARD
BEGIN:DAYLIGHT
TZOFFSETFROM:+0100
TZOFFSETTO:+0200
TZNAME:CEST
DTSTART:19700329T020000
RRULE:FREQ=YEARLY;BYMONTH=3;BYDAY=-1SU
END:DAYLIGHT
END:VTIMEZONE
BEGIN:VEVENT
UID:event-138@bauernzeitung
DTSTAMP:20260420T103007Z
DTSTART;VALUE=DATE:20260514
DTEND;VALUE=DATE:20260518
SUMMARY:Pferd Wels 2026
DESCRIPTION:Kontakt: Messe Wels\nEmail: office@messe-wels.at\nTelefon: +43724293920\n\nDie beliebte Pferdefachmesse PFERD Wels findet 2026 vom 14. bis 17. Mai statt. Das Messekonzept der PFERD Wels ist mehr als nur eine Ausstellung: Es ist ein ganzheitliches Erlebnis, das dazu einlädt, die Welt der Pferde von Grund auf zu erkunden. Von der Planung des Stalls bis zum Zubehör – Schritt für Schritt werden alle relevanten Themen auf spannende und informative Weise vermittelt.\n\nDie Themenwelten 2026 sind: \n- Sport- und Turnierbewerbe\n- Verkaufs- und Zuchtschauen\n- 4 SHOWS „NACHT DER PFERDE – It’s magic!\n- Erlebniswelt Stall(Technik)\n- Shopping Plaza\n- Westerntown\n- Pferdewohl
LOCATION:Messeplatz 1, 4600 Wels
URL:https://pferd-wels.at/
END:VEVENT
END:VCALENDAR