BEGIN:VCALENDAR
VERSION:2.0
PRODID:-//Bauernzeitung//Event Calendar//DE
X-WR-CALNAME:Bauernzeitung Veranstaltung
BEGIN:VTIMEZONE
TZID:Europe/Vienna
TZURL:http://tzurl.org/zoneinfo-outlook/Europe/Vienna
X-LIC-LOCATION:Europe/Vienna
BEGIN:STANDARD
TZOFFSETFROM:+0200
TZOFFSETTO:+0100
TZNAME:CET
DTSTART:19701025T030000
RRULE:FREQ=YEARLY;BYMONTH=10;BYDAY=-1SU
END:STANDARD
BEGIN:DAYLIGHT
TZOFFSETFROM:+0100
TZOFFSETTO:+0200
TZNAME:CEST
DTSTART:19700329T020000
RRULE:FREQ=YEARLY;BYMONTH=3;BYDAY=-1SU
END:DAYLIGHT
END:VTIMEZONE
BEGIN:VEVENT
UID:event-221@bauernzeitung
DTSTAMP:20260420T103128Z
DTSTART;VALUE=DATE:20261027
DTEND;VALUE=DATE:20261101
SUMMARY:FAIE Fachmarkt-Aktionswoche
DESCRIPTION:Kontakt: Johanna Berger\nEmail: johanna.berger@faie.at\n\nIn unserer Fachmarkt-Aktionswoche erwarten dich jede Menge Angebote, tolle Aktionen und Artikel zum Fachmarkt-Sonderpreis! Vorbeischauen lohnt sich!
LOCATION:Handelsstraße 9, 4844 Regau
URL:https://www.faie.at/
END:VEVENT
END:VCALENDAR