BEGIN:VCALENDAR
VERSION:2.0
PRODID:-//Bauernzeitung//Event Calendar//DE
X-WR-CALNAME:Bauernzeitung Veranstaltung
BEGIN:VTIMEZONE
TZID:Europe/Vienna
TZURL:http://tzurl.org/zoneinfo-outlook/Europe/Vienna
X-LIC-LOCATION:Europe/Vienna
BEGIN:STANDARD
TZOFFSETFROM:+0200
TZOFFSETTO:+0100
TZNAME:CET
DTSTART:19701025T030000
RRULE:FREQ=YEARLY;BYMONTH=10;BYDAY=-1SU
END:STANDARD
BEGIN:DAYLIGHT
TZOFFSETFROM:+0100
TZOFFSETTO:+0200
TZNAME:CEST
DTSTART:19700329T020000
RRULE:FREQ=YEARLY;BYMONTH=3;BYDAY=-1SU
END:DAYLIGHT
END:VTIMEZONE
BEGIN:VEVENT
UID:event-223@bauernzeitung
DTSTAMP:20260420T103135Z
DTSTART;VALUE=DATE:20260504
DTEND;VALUE=DATE:20260510
SUMMARY:FAIE Fachmarkt-Gartenwoche
DESCRIPTION:Kontakt: Johanna Berger\nEmail: johanna.berger@faie.at\n\nFreu Dich auf eine Woche voller Highlights für Gartenfreunde. Attraktive Angebote und tolle Aktionen auf Rasenroboter, Rasentraktoren und viele weitere Gartengeräte warten auf Dich in unserem Fachmarkt in Regau. \nWir stellen Dir zusätzlich auch unsere neuesten Produkte vor. \nLass Dich von unseren erfahrenen Mitarbeitern persönlich und kompetent beraten – wir nehmen uns immer Zeit für Deine Fragen und Wünsche.\n\nBei uns kannst Du die Produkte nicht nur ansehen, sondern auch testen!\nFahr zum Beispiel einen Rasentraktor Probe und überzeuge Dich selbst von der Leistung und Qualität.\n\nKomm vorbei und mach Deinen Garten fit für die Saison – wir freuen uns auf Dich!
LOCATION:Handelsstraße 9, 4844 Regau
URL:https://www.faie.at/
END:VEVENT
END:VCALENDAR