BEGIN:VCALENDAR
VERSION:2.0
PRODID:-//Bauernzeitung//Event Calendar//DE
X-WR-CALNAME:Bauernzeitung Veranstaltung
BEGIN:VTIMEZONE
TZID:Europe/Vienna
TZURL:http://tzurl.org/zoneinfo-outlook/Europe/Vienna
X-LIC-LOCATION:Europe/Vienna
BEGIN:STANDARD
TZOFFSETFROM:+0200
TZOFFSETTO:+0100
TZNAME:CET
DTSTART:19701025T030000
RRULE:FREQ=YEARLY;BYMONTH=10;BYDAY=-1SU
END:STANDARD
BEGIN:DAYLIGHT
TZOFFSETFROM:+0100
TZOFFSETTO:+0200
TZNAME:CEST
DTSTART:19700329T020000
RRULE:FREQ=YEARLY;BYMONTH=3;BYDAY=-1SU
END:DAYLIGHT
END:VTIMEZONE
BEGIN:VEVENT
UID:event-237@bauernzeitung
DTSTAMP:20260420T102449Z
DTSTART;VALUE=DATE:20260521
DTEND;VALUE=DATE:20260522
SUMMARY:ORTE-Exkursion: Von der Quelle bis zur Wiederaufbereitung: ein Tag im Industrieviertel rund ums Lebens-Mittel Wasser
DESCRIPTION:Kontakt: Heidrun Schlögl\nEmail: office@orte-noe.at\n\nDie erste ORTE-Exkursion 2026 führt mit den Architekturtagen zu Infrastrukturen, die sich rund um‘s Wasser drehen: Vom visionären Wr.-Neustädter-Kanal über eine militärisch genutzte Zisterne, Quellwasser und ‚Tirolerbach‘ bis hin zur High-Tech-Bio-Abwasser-Aufbereitungsanlage - alles im Dienste einer unserer wertvollsten Ressourcen, auch wenn wir selbst noch (!) keinen Mangel leiden.
LOCATION:null, 1120 Wien
URL:https://www.orte-noe.at
END:VEVENT
END:VCALENDAR