BEGIN:VCALENDAR
VERSION:2.0
PRODID:-//Bauernzeitung//Event Calendar//DE
X-WR-CALNAME:Bauernzeitung Veranstaltung
BEGIN:VTIMEZONE
TZID:Europe/Vienna
TZURL:http://tzurl.org/zoneinfo-outlook/Europe/Vienna
X-LIC-LOCATION:Europe/Vienna
BEGIN:STANDARD
TZOFFSETFROM:+0200
TZOFFSETTO:+0100
TZNAME:CET
DTSTART:19701025T030000
RRULE:FREQ=YEARLY;BYMONTH=10;BYDAY=-1SU
END:STANDARD
BEGIN:DAYLIGHT
TZOFFSETFROM:+0100
TZOFFSETTO:+0200
TZNAME:CEST
DTSTART:19700329T020000
RRULE:FREQ=YEARLY;BYMONTH=3;BYDAY=-1SU
END:DAYLIGHT
END:VTIMEZONE
BEGIN:VEVENT
UID:event-250@bauernzeitung
DTSTAMP:20260420T103632Z
DTSTART;VALUE=DATE:20260903
DTEND;VALUE=DATE:20260908
SUMMARY:Int. Gartenbaumesse Tulln
DESCRIPTION:Kontakt: Messe Tulln GmbH\nEmail: messe@tulln.at\n\nEuropas größte Blumenschau\nEurope’s largest flower show
LOCATION:Messegelände, 3430 Tulln an der Donau
URL:https://www.messe-tulln.at/
END:VEVENT
END:VCALENDAR