BEGIN:VCALENDAR
VERSION:2.0
PRODID:-//Bauernzeitung//Event Calendar//DE
X-WR-CALNAME:Bauernzeitung Veranstaltung
BEGIN:VTIMEZONE
TZID:Europe/Vienna
TZURL:http://tzurl.org/zoneinfo-outlook/Europe/Vienna
X-LIC-LOCATION:Europe/Vienna
BEGIN:STANDARD
TZOFFSETFROM:+0200
TZOFFSETTO:+0100
TZNAME:CET
DTSTART:19701025T030000
RRULE:FREQ=YEARLY;BYMONTH=10;BYDAY=-1SU
END:STANDARD
BEGIN:DAYLIGHT
TZOFFSETFROM:+0100
TZOFFSETTO:+0200
TZNAME:CEST
DTSTART:19700329T020000
RRULE:FREQ=YEARLY;BYMONTH=3;BYDAY=-1SU
END:DAYLIGHT
END:VTIMEZONE
BEGIN:VEVENT
UID:event-258@bauernzeitung
DTSTAMP:20260420T102658Z
DTSTART;VALUE=DATE:20260528
DTEND;VALUE=DATE:20260601
SUMMARY:LAND FORST JAGD Messe Wieselburg
DESCRIPTION:Kontakt: Messe Wieselburg GmbH\nEmail: info@messewieselburg.at\n\nHerzlich willkommen bei der LAND FORST JAGD Messe Wieselburg – vom 28. bis 31. Mai 2026\nBei uns erleben Sie die neueste Fahrzeugtechnik, leistungsstarke Geräte & Maschinen – vom Traktor bis zum Anbaugerät – sowie smarte Lösungen für Acker, Wald & Stall.
LOCATION:Volksfestplatz 3, 3250 Wieselburg
URL:https://www.messewieselburg.at/
END:VEVENT
END:VCALENDAR