BEGIN:VCALENDAR
VERSION:2.0
PRODID:-//Bauernzeitung//Event Calendar//DE
X-WR-CALNAME:Bauernzeitung Veranstaltung
BEGIN:VTIMEZONE
TZID:Europe/Vienna
TZURL:http://tzurl.org/zoneinfo-outlook/Europe/Vienna
X-LIC-LOCATION:Europe/Vienna
BEGIN:STANDARD
TZOFFSETFROM:+0200
TZOFFSETTO:+0100
TZNAME:CET
DTSTART:19701025T030000
RRULE:FREQ=YEARLY;BYMONTH=10;BYDAY=-1SU
END:STANDARD
BEGIN:DAYLIGHT
TZOFFSETFROM:+0100
TZOFFSETTO:+0200
TZNAME:CEST
DTSTART:19700329T020000
RRULE:FREQ=YEARLY;BYMONTH=3;BYDAY=-1SU
END:DAYLIGHT
END:VTIMEZONE
BEGIN:VEVENT
UID:event-260@bauernzeitung
DTSTAMP:20260420T102958Z
DTSTART;VALUE=DATE:20260624
DTEND;VALUE=DATE:20260629
SUMMARY:WIESELBURGER VOLKSFEST mit GEWERBESCHAU
DESCRIPTION:Kontakt: Messe Wieselburg GmbH\nEmail: info@messewieselburg.at\n\nVom 24. bis 28. Juni 2026 öffnet das WIESELBURGER VOLKSFEST wieder seine Tore und wird in diesem Jahr um ein besonderes Highlight ergänzt: die GEWERBESCHAU.
LOCATION:Volksfestplatz 3, 3250 Wieselburg
URL:https://www.messewieselburg.at/
END:VEVENT
END:VCALENDAR