BEGIN:VCALENDAR
VERSION:2.0
PRODID:-//Bauernzeitung//Event Calendar//DE
X-WR-CALNAME:Bauernzeitung Veranstaltung
BEGIN:VTIMEZONE
TZID:Europe/Vienna
TZURL:http://tzurl.org/zoneinfo-outlook/Europe/Vienna
X-LIC-LOCATION:Europe/Vienna
BEGIN:STANDARD
TZOFFSETFROM:+0200
TZOFFSETTO:+0100
TZNAME:CET
DTSTART:19701025T030000
RRULE:FREQ=YEARLY;BYMONTH=10;BYDAY=-1SU
END:STANDARD
BEGIN:DAYLIGHT
TZOFFSETFROM:+0100
TZOFFSETTO:+0200
TZNAME:CEST
DTSTART:19700329T020000
RRULE:FREQ=YEARLY;BYMONTH=3;BYDAY=-1SU
END:DAYLIGHT
END:VTIMEZONE
BEGIN:VEVENT
UID:event-261@bauernzeitung
DTSTAMP:20260420T103115Z
DTSTART;VALUE=DATE:20261016
DTEND;VALUE=DATE:20261019
SUMMARY:BAU ENERGIE WOHNEN 16. - 18. Oktober 2026
DESCRIPTION:Kontakt: Messe Wieselburg GmbH\nEmail: info@messewieselburg.at\n\nVom 16. bis 18. Oktober 2026 wird Wieselburg wieder zum Treffpunkt für alle, die bauen, renovieren oder ihr Zuhause neu gestalten möchten. Die BAU. ENERGIE. WOHNEN. lädt dazu ein, frische Ideen zu entdecken, aktuelle Trends zu erleben und sich persönlich von Expert:innen beraten zu lassen.
LOCATION:Volksfestplatz 3, 3250 Wieselburg
URL:https://www.messewieselburg.at/
END:VEVENT
END:VCALENDAR