BEGIN:VCALENDAR
VERSION:2.0
PRODID:-//Bauernzeitung//Event Calendar//DE
X-WR-CALNAME:Bauernzeitung Veranstaltung
BEGIN:VTIMEZONE
TZID:Europe/Vienna
TZURL:http://tzurl.org/zoneinfo-outlook/Europe/Vienna
X-LIC-LOCATION:Europe/Vienna
BEGIN:STANDARD
TZOFFSETFROM:+0200
TZOFFSETTO:+0100
TZNAME:CET
DTSTART:19701025T030000
RRULE:FREQ=YEARLY;BYMONTH=10;BYDAY=-1SU
END:STANDARD
BEGIN:DAYLIGHT
TZOFFSETFROM:+0100
TZOFFSETTO:+0200
TZNAME:CEST
DTSTART:19700329T020000
RRULE:FREQ=YEARLY;BYMONTH=3;BYDAY=-1SU
END:DAYLIGHT
END:VTIMEZONE
BEGIN:VEVENT
UID:event-279@bauernzeitung
DTSTAMP:20260422T085215Z
DTSTART;VALUE=DATE:20261125
DTEND;VALUE=DATE:20261129
SUMMARY:Agraria Messe 2026
DESCRIPTION:Kontakt: Messe Wels\nEmail: office@messe-wels.at\nTelefon: 72429392-0
LOCATION:Messeplatz 1, 4600 Wels
URL:www.agraria.at
END:VEVENT
END:VCALENDAR