BEGIN:VCALENDAR
VERSION:2.0
PRODID:-//Bauernzeitung//Event Calendar//DE
X-WR-CALNAME:Bauernzeitung Veranstaltung
BEGIN:VTIMEZONE
TZID:Europe/Vienna
TZURL:http://tzurl.org/zoneinfo-outlook/Europe/Vienna
X-LIC-LOCATION:Europe/Vienna
BEGIN:STANDARD
TZOFFSETFROM:+0200
TZOFFSETTO:+0100
TZNAME:CET
DTSTART:19701025T030000
RRULE:FREQ=YEARLY;BYMONTH=10;BYDAY=-1SU
END:STANDARD
BEGIN:DAYLIGHT
TZOFFSETFROM:+0100
TZOFFSETTO:+0200
TZNAME:CEST
DTSTART:19700329T020000
RRULE:FREQ=YEARLY;BYMONTH=3;BYDAY=-1SU
END:DAYLIGHT
END:VTIMEZONE
BEGIN:VEVENT
UID:event-302@bauernzeitung
DTSTAMP:20260424T101010Z
DTSTART;VALUE=DATE:20260528
DTEND;VALUE=DATE:20260530
SUMMARY:Österreichische Forsttagung 2026
DESCRIPTION:Kontakt: Österreichischer Forstverein\nTelefon: forst@lk-oe.at\n\n„Wald im Wandel“ lautet das diesjährige Tagungsthema und spricht damit die vielfältigen Veränderungen an, mit denen die Wälder und die mit ihrer Bewirtschaftung befassten Personen konfrontiert sind. Gesellschaftlicher, sozialer Wandel, Werte- und Mentalitätswandel sind hier genauso anzusprechen wie der Strukturwandel und der gerade die Waldbewirtschaftung besonders herausfordernde Klimawandel.
LOCATION:Rochusplatz 1, 7461 Stadtschlaining
URL:https://www.forstverein.at/oesterreichische-forsttagung-2026/
END:VEVENT
END:VCALENDAR