BEGIN:VCALENDAR
VERSION:2.0
PRODID:-//Bauernzeitung//Event Calendar//DE
X-WR-CALNAME:Bauernzeitung Veranstaltung
BEGIN:VTIMEZONE
TZID:Europe/Vienna
TZURL:http://tzurl.org/zoneinfo-outlook/Europe/Vienna
X-LIC-LOCATION:Europe/Vienna
BEGIN:STANDARD
TZOFFSETFROM:+0200
TZOFFSETTO:+0100
TZNAME:CET
DTSTART:19701025T030000
RRULE:FREQ=YEARLY;BYMONTH=10;BYDAY=-1SU
END:STANDARD
BEGIN:DAYLIGHT
TZOFFSETFROM:+0100
TZOFFSETTO:+0200
TZNAME:CEST
DTSTART:19700329T020000
RRULE:FREQ=YEARLY;BYMONTH=3;BYDAY=-1SU
END:DAYLIGHT
END:VTIMEZONE
BEGIN:VEVENT
UID:event-308@bauernzeitung
DTSTAMP:20260420T102210Z
DTSTART;VALUE=DATE:20260528
DTEND;VALUE=DATE:20260601
SUMMARY:LAND FORST JAGD 2026
DESCRIPTION:Kontakt: Messe Wieselburg GmbH\nEmail: land-forst@messewieselburg.at\nTelefon: +437416/502\n\nLIVE Erleben! so lautet das Motto der LAND FORST JAGD 2026, die vom 28. bis 31. Mai 2026 in Wieselburg stattfindet. Die Messe bietet ein vielseitiges Programm für Fachbesucher:innen und Familien - von praxisnahen Einblicken bis hin zu spannenden Erlebnissen ist alles dabei.\n\nMit klaren Schwerpunktthemen wie Marktgärtnerei, Jagd, Innovation Farm, Schaustall, energieautarker Bauernhof, Lohnunternehmerdorf, Alles BIO oder dem Schießkino erwartet die Besucher:innen der LAND FORST JAGD eine abwechslungsreiche Mischung aus Information, Innovation und Unterhaltung.\n\nErgänzt wird das Messeerlebnis durch ein abwechslungsreiches Rahmenprogramm: Freuen Sie sie sich auf Jagdhundevorführungen, Jagdhornbläser, Fachvorträge und noch vieles mehr! Auch für Kinder gibt es ein spannendes Erlebnisprogramm, das für strahlende Augen sorgt.\nEin weiteres Highlight ist das Kabarett "Best of" Petutschnig Hons am Freitag, den 29. Mai (im Messeeintritt inkludiert), sowie das MEGA-GEWINNSPIEL, bei dem sich das Mitmachen lohnt!\n\nDie LAND FORST JAGD ist der perfekte Ort, um sich zu informieren, Neues auszuprobieren und sich mit Gleichgesinnten auszutauschen.\n\nWeitere Infos unter: https://www.landundforst-messe.at/\n\nKostenpflichtiger Eintritt ab 14 Jahren. Kostenloser Eintritt für Personen mit Behindertenausweis inkl. einer Begleitperson. Wichtiger Hinweis: Für Haustiere gilt Hundeleinepflicht und – wo vorgeschrieben – Maulkorbpflicht.
LOCATION:Volksfestplatz 3, 3250 Wieselburg
URL:https://www.landundforst-messe.at/
END:VEVENT
END:VCALENDAR