BEGIN:VCALENDAR
VERSION:2.0
PRODID:-//Bauernzeitung//Event Calendar//DE
X-WR-CALNAME:Bauernzeitung Veranstaltung
BEGIN:VTIMEZONE
TZID:Europe/Vienna
TZURL:http://tzurl.org/zoneinfo-outlook/Europe/Vienna
X-LIC-LOCATION:Europe/Vienna
BEGIN:STANDARD
TZOFFSETFROM:+0200
TZOFFSETTO:+0100
TZNAME:CET
DTSTART:19701025T030000
RRULE:FREQ=YEARLY;BYMONTH=10;BYDAY=-1SU
END:STANDARD
BEGIN:DAYLIGHT
TZOFFSETFROM:+0100
TZOFFSETTO:+0200
TZNAME:CEST
DTSTART:19700329T020000
RRULE:FREQ=YEARLY;BYMONTH=3;BYDAY=-1SU
END:DAYLIGHT
END:VTIMEZONE
BEGIN:VEVENT
UID:event-312@bauernzeitung
DTSTAMP:20260420T102211Z
DTSTART;VALUE=DATE:20260530
DTEND;VALUE=DATE:20260531
SUMMARY:Geführter Rundgang: Getreidespeicher einst, jetzt und dann?
DESCRIPTION:Kontakt: ORTE Architekturnetzwerk Niederösterreich\nEmail: office@orte-noe.at\n\nGetreidespeicher gehören zu der Art „Daseinsvorsorge“, die zwar schon seit Menschengedenken überlebensnotwendig sind, denn sie garantieren die Versorgung mit einem Grundnahrungsmittel auch im Falle möglicher Ernteausfälle, und trotzdem ist es eine, an die man beim Stichwort „Infrastruktur“ nicht sofort denkt. Obwohl Silotürme weithin sichtbar, Schüttkästen von ihrer Dimension her nicht eben unscheinbar sind, haben die wenigsten Menschen eine Ahnung, wofür die Gebäude eigentlich errichtet wurden, was drinnen passiert, oder wie die Getreideeinbringung, -lagerung, und -abfüllung grundsätzlich funktioniert.
LOCATION:Gutshof 1, 2404 Petronell-Carnuntum
URL:https://orte-noe.at/programm/getreidespeicher-einst-jetzt-und-dann
END:VEVENT
END:VCALENDAR