BEGIN:VCALENDAR
VERSION:2.0
PRODID:-//Bauernzeitung//Event Calendar//DE
X-WR-CALNAME:Bauernzeitung Veranstaltung
BEGIN:VTIMEZONE
TZID:Europe/Vienna
TZURL:http://tzurl.org/zoneinfo-outlook/Europe/Vienna
X-LIC-LOCATION:Europe/Vienna
BEGIN:STANDARD
TZOFFSETFROM:+0200
TZOFFSETTO:+0100
TZNAME:CET
DTSTART:19701025T030000
RRULE:FREQ=YEARLY;BYMONTH=10;BYDAY=-1SU
END:STANDARD
BEGIN:DAYLIGHT
TZOFFSETFROM:+0100
TZOFFSETTO:+0200
TZNAME:CEST
DTSTART:19700329T020000
RRULE:FREQ=YEARLY;BYMONTH=3;BYDAY=-1SU
END:DAYLIGHT
END:VTIMEZONE
BEGIN:VEVENT
UID:event-321@bauernzeitung
DTSTAMP:20260420T105927Z
DTSTART;VALUE=DATE:20260426
DTEND;VALUE=DATE:20260427
SUMMARY:Jubiläumsblütenfest - 40 Jahre Apfelstraße
DESCRIPTION:Kontakt: Herbert Muster\nEmail: obst@lk-stmk.at\n\nProgramm: \n- Die Schweizer Trychler (Glöckler) aus Luzern läuten das Blütenfest ein\n- Wanderung durch die Obstgärten mit Labestationen\n- Krönung der Obsthoheiten\n- Frühschoppen Musikverein Puch\n- "Zenz mit Putz, Stingl & Kern"\n- "Schlagerl Musi"\n- Schmankerlkirtag unserer Apfelbauern\n- Apfelkulinarium in den Wirtshäusern und Cafés\n- Kinderprogramm\n- Künstler- und Handwerksmarkt\n- Tombola mit wertvollen Preisen
LOCATION:null, 8182 Puch bei Weiz

END:VEVENT
END:VCALENDAR