BEGIN:VCALENDAR
VERSION:2.0
PRODID:-//Bauernzeitung//Event Calendar//DE
X-WR-CALNAME:Bauernzeitung Veranstaltung
BEGIN:VTIMEZONE
TZID:Europe/Vienna
TZURL:http://tzurl.org/zoneinfo-outlook/Europe/Vienna
X-LIC-LOCATION:Europe/Vienna
BEGIN:STANDARD
TZOFFSETFROM:+0200
TZOFFSETTO:+0100
TZNAME:CET
DTSTART:19701025T030000
RRULE:FREQ=YEARLY;BYMONTH=10;BYDAY=-1SU
END:STANDARD
BEGIN:DAYLIGHT
TZOFFSETFROM:+0100
TZOFFSETTO:+0200
TZNAME:CEST
DTSTART:19700329T020000
RRULE:FREQ=YEARLY;BYMONTH=3;BYDAY=-1SU
END:DAYLIGHT
END:VTIMEZONE
BEGIN:VEVENT
UID:event-322@bauernzeitung
DTSTAMP:20260420T102311Z
DTSTART;VALUE=DATE:20260426
DTEND;VALUE=DATE:20260427
SUMMARY:Hoffest beim Haberl
DESCRIPTION:Kontakt: Haberl Franz\nEmail: m.triendl@aon.at\n\nFrühschoppen mit "Plus minus Alpbach", Stall- & Tiersegnung mit Pfarrer Martin, Hüpfburg, Kinderschminken u. v. m. für die Kleinen. Für Speis und Trank ist bestens gesorgt. Findet bei jeder Witterung statt, für Unfälle wird nicht gehaftet.
LOCATION:Moosen 35, 6233 Kramsach

END:VEVENT
END:VCALENDAR